BEGIN:VCALENDAR
VERSION:2.0
PRODID:-//Age Concern South Canterbury - ECPv6.15.20//NONSGML v1.0//EN
CALSCALE:GREGORIAN
METHOD:PUBLISH
X-WR-CALNAME:Age Concern South Canterbury
X-ORIGINAL-URL:https://ageconcernsc.org.nz
X-WR-CALDESC:Events for Age Concern South Canterbury
REFRESH-INTERVAL;VALUE=DURATION:PT1H
X-Robots-Tag:noindex
X-PUBLISHED-TTL:PT1H
BEGIN:VTIMEZONE
TZID:Pacific/Auckland
BEGIN:STANDARD
TZOFFSETFROM:+1300
TZOFFSETTO:+1200
TZNAME:NZST
DTSTART:20250405T140000
END:STANDARD
BEGIN:DAYLIGHT
TZOFFSETFROM:+1200
TZOFFSETTO:+1300
TZNAME:NZDT
DTSTART:20250927T140000
END:DAYLIGHT
BEGIN:STANDARD
TZOFFSETFROM:+1300
TZOFFSETTO:+1200
TZNAME:NZST
DTSTART:20260404T140000
END:STANDARD
BEGIN:DAYLIGHT
TZOFFSETFROM:+1200
TZOFFSETTO:+1300
TZNAME:NZDT
DTSTART:20260926T140000
END:DAYLIGHT
BEGIN:STANDARD
TZOFFSETFROM:+1300
TZOFFSETTO:+1200
TZNAME:NZST
DTSTART:20270403T140000
END:STANDARD
BEGIN:DAYLIGHT
TZOFFSETFROM:+1200
TZOFFSETTO:+1300
TZNAME:NZDT
DTSTART:20270925T140000
END:DAYLIGHT
END:VTIMEZONE
BEGIN:VEVENT
DTSTART;TZID=Pacific/Auckland:20260306T093000
DTEND;TZID=Pacific/Auckland:20260306T130000
DTSTAMP:20260420T234144
CREATED:20260213T010130Z
LAST-MODIFIED:20260213T010147Z
UID:10006106-1772789400-1772802000@ageconcernsc.org.nz
SUMMARY:Friday Club – Weekly Social Gathering for Older Adults
DESCRIPTION:The Friday Club is a friendly\, welcoming weekly event for older people that combines socialising\, light physical activity\, entertainment\, and a delicious freshly cooked lunch. \nWhat to Expect: \n\nDoors open at 9:30am\, with morning tea served at 10am.\nEnjoy about 30 minutes of optional gentle physical exercises such as tai chi\, chair yoga\, movement\, or falls prevention activities—designed to improve strength and balance.\nEach week features a guest speaker\, entertainer\, or live music to inform\, inspire\, and entertain.\nA freshly prepared 2-course lunch is served at 12pm.\nAmple time is provided throughout to meet new friends and relax in great company.\n\nYou can attend all activities or choose just morning tea or lunch—whatever suits you best. No membership or bookings required\, and everyone is warmly welcome. \nEvent Details: \n\nWhen: Every Friday\, doors open at 9:30am\, morning tea at 10am\, and lunch at 12pm\nWhere: Wilson Street Baptist Church Hall\, 17 Wilson Street\, Timaru\nCost: Morning tea only $5 | Morning tea + 2-course lunch $15 (Payment by cash or internet banking only; no EFTPOS available)\n\nThe Friday Club is run by dedicated volunteers who handle cooking\, serving\, cleaning\, and sometimes even entertaining. \nThis Week’s Guest: TBC \nCome along\, enjoy the company\, and make your Friday special!
URL:https://ageconcernsc.org.nz/event/friday-club-weekly-social-gathering-for-older-adults-6/
LOCATION:Wilson Street Baptist Church Hall\, 17 Wilson Street\, Timaru\, 7910\, New Zealand
ATTACH;FMTTYPE=image/png:https://ageconcernsc.org.nz/wp-content/uploads/2025/08/Photo-changer-6.png
ORGANIZER;CN="Age Concern South Canterbury":MAILTO:info@ageconcernsc.org.nz
END:VEVENT
BEGIN:VEVENT
DTSTART;TZID=Pacific/Auckland:20260306T133000
DTEND;TZID=Pacific/Auckland:20260306T150000
DTSTAMP:20260420T234144
CREATED:20260302T005239Z
LAST-MODIFIED:20260302T005541Z
UID:10006127-1772803800-1772809200@ageconcernsc.org.nz
SUMMARY:Steady as You Go (SAYGO) Temuka
DESCRIPTION:A strength\, balance\, and falls prevention exercise group designed especially for seniors. No booking required — just turn up and join in! \nWhen: Every Friday at 1:30 PMWhere: St Joseph’s Hall\, TemukaCost: Gold coin donation appreciated \nStay active\, improve your balance\, and meet others in the community. Everyone is welcome!
URL:https://ageconcernsc.org.nz/event/steady-as-you-go-saygo-temuka/2026-03-06/
LOCATION:St Joseph’s Hall\, Temuka\, 30 Wilkin Street\, Temuka\, New Zealand
ATTACH;FMTTYPE=image/png:https://ageconcernsc.org.nz/wp-content/uploads/2025/08/Photo-changer-Temuka.png
ORGANIZER;CN="Age Concern South Canterbury":MAILTO:info@ageconcernsc.org.nz
END:VEVENT
END:VCALENDAR