BEGIN:VCALENDAR
VERSION:2.0
PRODID:-//Age Concern South Canterbury - ECPv6.15.20//NONSGML v1.0//EN
CALSCALE:GREGORIAN
METHOD:PUBLISH
X-ORIGINAL-URL:https://ageconcernsc.org.nz
X-WR-CALDESC:Events for Age Concern South Canterbury
REFRESH-INTERVAL;VALUE=DURATION:PT1H
X-Robots-Tag:noindex
X-PUBLISHED-TTL:PT1H
BEGIN:VTIMEZONE
TZID:Pacific/Auckland
BEGIN:STANDARD
TZOFFSETFROM:+1300
TZOFFSETTO:+1200
TZNAME:NZST
DTSTART:20250405T140000
END:STANDARD
BEGIN:DAYLIGHT
TZOFFSETFROM:+1200
TZOFFSETTO:+1300
TZNAME:NZDT
DTSTART:20250927T140000
END:DAYLIGHT
BEGIN:STANDARD
TZOFFSETFROM:+1300
TZOFFSETTO:+1200
TZNAME:NZST
DTSTART:20260404T140000
END:STANDARD
BEGIN:DAYLIGHT
TZOFFSETFROM:+1200
TZOFFSETTO:+1300
TZNAME:NZDT
DTSTART:20260926T140000
END:DAYLIGHT
BEGIN:STANDARD
TZOFFSETFROM:+1300
TZOFFSETTO:+1200
TZNAME:NZST
DTSTART:20270403T140000
END:STANDARD
BEGIN:DAYLIGHT
TZOFFSETFROM:+1200
TZOFFSETTO:+1300
TZNAME:NZDT
DTSTART:20270925T140000
END:DAYLIGHT
END:VTIMEZONE
BEGIN:VEVENT
DTSTART;TZID=Pacific/Auckland:20260312T103000
DTEND;TZID=Pacific/Auckland:20260312T133000
DTSTAMP:20260421T001759
CREATED:20260216T001608Z
LAST-MODIFIED:20260216T001608Z
UID:10006108-1773311400-1773322200@ageconcernsc.org.nz
SUMMARY:Staying Safe: Refresher Driving Course - Timaru
DESCRIPTION:Let’s make our roads safer one driver at a time! \nA Free\, classroom refresher course to improve your driving confidence and knowledge. \nDate: 12th March 2026 10:30am – 1:30pm \nWhere: Community House\, 27 Strathallan Street\, Timaru \nTo book please ring: 03 687 7581
URL:https://ageconcernsc.org.nz/event/staying-safe-refresher-driving-course-timaru/
LOCATION:Community House\, Timaru\, Community House\, 27 Strathallan St\, Timaru 7910\, PO Box 983\, Timaru 7940\, New Zealand
ATTACH;FMTTYPE=image/png:https://ageconcernsc.org.nz/wp-content/uploads/2026/02/Staying-Safe-Timaru-2026.png
ORGANIZER;CN="Age Concern South Canterbury":MAILTO:info@ageconcernsc.org.nz
END:VEVENT
END:VCALENDAR