BEGIN:VCALENDAR
VERSION:2.0
PRODID:-//Age Concern South Canterbury - ECPv6.15.20//NONSGML v1.0//EN
CALSCALE:GREGORIAN
METHOD:PUBLISH
X-ORIGINAL-URL:https://ageconcernsc.org.nz
X-WR-CALDESC:Events for Age Concern South Canterbury
REFRESH-INTERVAL;VALUE=DURATION:PT1H
X-Robots-Tag:noindex
X-PUBLISHED-TTL:PT1H
BEGIN:VTIMEZONE
TZID:Pacific/Auckland
BEGIN:STANDARD
TZOFFSETFROM:+1300
TZOFFSETTO:+1200
TZNAME:NZST
DTSTART:20250405T140000
END:STANDARD
BEGIN:DAYLIGHT
TZOFFSETFROM:+1200
TZOFFSETTO:+1300
TZNAME:NZDT
DTSTART:20250927T140000
END:DAYLIGHT
BEGIN:STANDARD
TZOFFSETFROM:+1300
TZOFFSETTO:+1200
TZNAME:NZST
DTSTART:20260404T140000
END:STANDARD
BEGIN:DAYLIGHT
TZOFFSETFROM:+1200
TZOFFSETTO:+1300
TZNAME:NZDT
DTSTART:20260926T140000
END:DAYLIGHT
BEGIN:STANDARD
TZOFFSETFROM:+1300
TZOFFSETTO:+1200
TZNAME:NZST
DTSTART:20270403T140000
END:STANDARD
BEGIN:DAYLIGHT
TZOFFSETFROM:+1200
TZOFFSETTO:+1300
TZNAME:NZDT
DTSTART:20270925T140000
END:DAYLIGHT
END:VTIMEZONE
BEGIN:VEVENT
DTSTART;TZID=Pacific/Auckland:20260325T100000
DTEND;TZID=Pacific/Auckland:20260325T120000
DTSTAMP:20260421T003152
CREATED:20260216T013535Z
LAST-MODIFIED:20260216T013535Z
UID:10006120-1774432800-1774440000@ageconcernsc.org.nz
SUMMARY:SilverTech: Introduction to Smartphones - Timaru
DESCRIPTION:Tech made simple for older people \nJoin our four-session course designed to help you build confidence using your smartphone or tablet. Whether you’re just starting out or want to feel safer and more capable online\, this course is for you. \nCourse Details:\nWhen: Four sessions\, 10:00 AM – 12:00 PM\nWhere: Community House\, 27 Strathallan Street\, Timaru (No Parking Available on site)\nCost: $20 per person\nBookings essential – limited spaces available\nTo book\, phone: 03 687 7581 or email: silvertech@ageconcernsc.org.nz \nWhat We Cover: \n\nGetting started with your smartphone or tablet\nSending messages and emails\nUsing apps and making video calls\nStaying safe online and avoiding scams\nOnline banking and digital safety tips\nPractical help with your own device\n\nWe Offer: \n\nEasy-to-follow group classes\nFriendly\, patient instructors\nA relaxed\, supportive learning space\nOpportunities to meet others and learn together\n\nNo technical knowledge needed — just bring your curiosity and your device!
URL:https://ageconcernsc.org.nz/event/silvertech-introduction-to-smartphones-timaru/2026-03-25/
LOCATION:Community House\, Timaru\, Community House\, 27 Strathallan St\, Timaru 7910\, PO Box 983\, Timaru 7940\, New Zealand
ATTACH;FMTTYPE=image/png:https://ageconcernsc.org.nz/wp-content/uploads/2026/02/SilverTech-Timaru-2026.png
ORGANIZER;CN="Age Concern South Canterbury":MAILTO:info@ageconcernsc.org.nz
END:VEVENT
BEGIN:VEVENT
DTSTART;TZID=Pacific/Auckland:20260325T140000
DTEND;TZID=Pacific/Auckland:20260325T150000
DTSTAMP:20260421T003152
CREATED:20260302T013934Z
LAST-MODIFIED:20260302T013934Z
UID:10006214-1774447200-1774450800@ageconcernsc.org.nz
SUMMARY:Steady as You Go (SAYGO) Waimate
DESCRIPTION:A strength\, balance\, and falls prevention exercise group designed especially for seniors. No booking required — just turn up and join in! \nWhen: Every Wednesday at 2:00pmWhere: Waimate Town & Country ClubCost: Gold coin donation appreciated \nStay active\, improve your balance\, and meet others in the community. Everyone is welcome!
URL:https://ageconcernsc.org.nz/event/steady-as-you-go-saygo-waimate-2/2026-03-25/
LOCATION:Waimate Town and Country Club\, 14 John Street\, Waimate\, 14 John Street\, Waimate\, New Zealand
ATTACH;FMTTYPE=image/png:https://ageconcernsc.org.nz/wp-content/uploads/2025/08/Photo-changer-Waiamte.png
ORGANIZER;CN="Age Concern South Canterbury":MAILTO:info@ageconcernsc.org.nz
END:VEVENT
END:VCALENDAR