BEGIN:VCALENDAR
VERSION:2.0
PRODID:-//Age Concern South Canterbury - ECPv6.15.20//NONSGML v1.0//EN
CALSCALE:GREGORIAN
METHOD:PUBLISH
X-WR-CALNAME:Age Concern South Canterbury
X-ORIGINAL-URL:https://ageconcernsc.org.nz
X-WR-CALDESC:Events for Age Concern South Canterbury
REFRESH-INTERVAL;VALUE=DURATION:PT1H
X-Robots-Tag:noindex
X-PUBLISHED-TTL:PT1H
BEGIN:VTIMEZONE
TZID:Pacific/Auckland
BEGIN:STANDARD
TZOFFSETFROM:+1300
TZOFFSETTO:+1200
TZNAME:NZST
DTSTART:20250405T140000
END:STANDARD
BEGIN:DAYLIGHT
TZOFFSETFROM:+1200
TZOFFSETTO:+1300
TZNAME:NZDT
DTSTART:20250927T140000
END:DAYLIGHT
BEGIN:STANDARD
TZOFFSETFROM:+1300
TZOFFSETTO:+1200
TZNAME:NZST
DTSTART:20260404T140000
END:STANDARD
BEGIN:DAYLIGHT
TZOFFSETFROM:+1200
TZOFFSETTO:+1300
TZNAME:NZDT
DTSTART:20260926T140000
END:DAYLIGHT
BEGIN:STANDARD
TZOFFSETFROM:+1300
TZOFFSETTO:+1200
TZNAME:NZST
DTSTART:20270403T140000
END:STANDARD
BEGIN:DAYLIGHT
TZOFFSETFROM:+1200
TZOFFSETTO:+1300
TZNAME:NZDT
DTSTART:20270925T140000
END:DAYLIGHT
END:VTIMEZONE
BEGIN:VEVENT
DTSTART;TZID=Pacific/Auckland:20261023T133000
DTEND;TZID=Pacific/Auckland:20261023T150000
DTSTAMP:20260423T103015
CREATED:20260302T005239Z
LAST-MODIFIED:20260302T005541Z
UID:10006160-1792762200-1792767600@ageconcernsc.org.nz
SUMMARY:Steady as You Go (SAYGO) Temuka
DESCRIPTION:A strength\, balance\, and falls prevention exercise group designed especially for seniors. No booking required — just turn up and join in! \nWhen: Every Friday at 1:30 PMWhere: St Joseph’s Hall\, TemukaCost: Gold coin donation appreciated \nStay active\, improve your balance\, and meet others in the community. Everyone is welcome!
URL:https://ageconcernsc.org.nz/event/steady-as-you-go-saygo-temuka/2026-10-23/
LOCATION:St Joseph’s Hall\, Temuka\, 30 Wilkin Street\, Temuka\, New Zealand
ATTACH;FMTTYPE=image/png:https://ageconcernsc.org.nz/wp-content/uploads/2025/08/Photo-changer-Temuka.png
ORGANIZER;CN="Age Concern South Canterbury":MAILTO:info@ageconcernsc.org.nz
END:VEVENT
BEGIN:VEVENT
DTSTART;TZID=Pacific/Auckland:20261027T103000
DTEND;TZID=Pacific/Auckland:20261027T113000
DTSTAMP:20260423T103015
CREATED:20260302T011823Z
LAST-MODIFIED:20260302T011823Z
UID:10006203-1793097000-1793100600@ageconcernsc.org.nz
SUMMARY:Steady as You Go (SAYGO) Waimate
DESCRIPTION:A strength\, balance\, and falls prevention exercise group designed especially for seniors. No booking required — just turn up and join in! \nWhen: Every Tuesday at 10:30amWhere: Waimate Town & Country ClubCost: Gold coin donation appreciated \nStay active\, improve your balance\, and meet others in the community. Everyone is welcome!
URL:https://ageconcernsc.org.nz/event/steady-as-you-go-saygo-waimate/2026-10-27/
LOCATION:Waimate Town and Country Club\, 14 John Street\, Waimate\, 14 John Street\, Waimate\, New Zealand
ATTACH;FMTTYPE=image/png:https://ageconcernsc.org.nz/wp-content/uploads/2025/08/Photo-changer-Waiamte.png
ORGANIZER;CN="Age Concern South Canterbury":MAILTO:info@ageconcernsc.org.nz
END:VEVENT
BEGIN:VEVENT
DTSTART;TZID=Pacific/Auckland:20261028T140000
DTEND;TZID=Pacific/Auckland:20261028T150000
DTSTAMP:20260423T103015
CREATED:20260302T013934Z
LAST-MODIFIED:20260302T013934Z
UID:10006245-1793196000-1793199600@ageconcernsc.org.nz
SUMMARY:Steady as You Go (SAYGO) Waimate
DESCRIPTION:A strength\, balance\, and falls prevention exercise group designed especially for seniors. No booking required — just turn up and join in! \nWhen: Every Wednesday at 2:00pmWhere: Waimate Town & Country ClubCost: Gold coin donation appreciated \nStay active\, improve your balance\, and meet others in the community. Everyone is welcome!
URL:https://ageconcernsc.org.nz/event/steady-as-you-go-saygo-waimate-2/2026-10-28/
LOCATION:Waimate Town and Country Club\, 14 John Street\, Waimate\, 14 John Street\, Waimate\, New Zealand
ATTACH;FMTTYPE=image/png:https://ageconcernsc.org.nz/wp-content/uploads/2025/08/Photo-changer-Waiamte.png
ORGANIZER;CN="Age Concern South Canterbury":MAILTO:info@ageconcernsc.org.nz
END:VEVENT
BEGIN:VEVENT
DTSTART;TZID=Pacific/Auckland:20261030T133000
DTEND;TZID=Pacific/Auckland:20261030T150000
DTSTAMP:20260423T103015
CREATED:20260302T005239Z
LAST-MODIFIED:20260302T005541Z
UID:10006161-1793367000-1793372400@ageconcernsc.org.nz
SUMMARY:Steady as You Go (SAYGO) Temuka
DESCRIPTION:A strength\, balance\, and falls prevention exercise group designed especially for seniors. No booking required — just turn up and join in! \nWhen: Every Friday at 1:30 PMWhere: St Joseph’s Hall\, TemukaCost: Gold coin donation appreciated \nStay active\, improve your balance\, and meet others in the community. Everyone is welcome!
URL:https://ageconcernsc.org.nz/event/steady-as-you-go-saygo-temuka/2026-10-30/
LOCATION:St Joseph’s Hall\, Temuka\, 30 Wilkin Street\, Temuka\, New Zealand
ATTACH;FMTTYPE=image/png:https://ageconcernsc.org.nz/wp-content/uploads/2025/08/Photo-changer-Temuka.png
ORGANIZER;CN="Age Concern South Canterbury":MAILTO:info@ageconcernsc.org.nz
END:VEVENT
BEGIN:VEVENT
DTSTART;TZID=Pacific/Auckland:20261103T103000
DTEND;TZID=Pacific/Auckland:20261103T113000
DTSTAMP:20260423T103015
CREATED:20260302T011823Z
LAST-MODIFIED:20260302T011823Z
UID:10006204-1793701800-1793705400@ageconcernsc.org.nz
SUMMARY:Steady as You Go (SAYGO) Waimate
DESCRIPTION:A strength\, balance\, and falls prevention exercise group designed especially for seniors. No booking required — just turn up and join in! \nWhen: Every Tuesday at 10:30amWhere: Waimate Town & Country ClubCost: Gold coin donation appreciated \nStay active\, improve your balance\, and meet others in the community. Everyone is welcome!
URL:https://ageconcernsc.org.nz/event/steady-as-you-go-saygo-waimate/2026-11-03/
LOCATION:Waimate Town and Country Club\, 14 John Street\, Waimate\, 14 John Street\, Waimate\, New Zealand
ATTACH;FMTTYPE=image/png:https://ageconcernsc.org.nz/wp-content/uploads/2025/08/Photo-changer-Waiamte.png
ORGANIZER;CN="Age Concern South Canterbury":MAILTO:info@ageconcernsc.org.nz
END:VEVENT
BEGIN:VEVENT
DTSTART;TZID=Pacific/Auckland:20261104T140000
DTEND;TZID=Pacific/Auckland:20261104T150000
DTSTAMP:20260423T103015
CREATED:20260302T013934Z
LAST-MODIFIED:20260302T013934Z
UID:10006246-1793800800-1793804400@ageconcernsc.org.nz
SUMMARY:Steady as You Go (SAYGO) Waimate
DESCRIPTION:A strength\, balance\, and falls prevention exercise group designed especially for seniors. No booking required — just turn up and join in! \nWhen: Every Wednesday at 2:00pmWhere: Waimate Town & Country ClubCost: Gold coin donation appreciated \nStay active\, improve your balance\, and meet others in the community. Everyone is welcome!
URL:https://ageconcernsc.org.nz/event/steady-as-you-go-saygo-waimate-2/2026-11-04/
LOCATION:Waimate Town and Country Club\, 14 John Street\, Waimate\, 14 John Street\, Waimate\, New Zealand
ATTACH;FMTTYPE=image/png:https://ageconcernsc.org.nz/wp-content/uploads/2025/08/Photo-changer-Waiamte.png
ORGANIZER;CN="Age Concern South Canterbury":MAILTO:info@ageconcernsc.org.nz
END:VEVENT
BEGIN:VEVENT
DTSTART;TZID=Pacific/Auckland:20261106T133000
DTEND;TZID=Pacific/Auckland:20261106T150000
DTSTAMP:20260423T103015
CREATED:20260302T005239Z
LAST-MODIFIED:20260302T005541Z
UID:10006162-1793971800-1793977200@ageconcernsc.org.nz
SUMMARY:Steady as You Go (SAYGO) Temuka
DESCRIPTION:A strength\, balance\, and falls prevention exercise group designed especially for seniors. No booking required — just turn up and join in! \nWhen: Every Friday at 1:30 PMWhere: St Joseph’s Hall\, TemukaCost: Gold coin donation appreciated \nStay active\, improve your balance\, and meet others in the community. Everyone is welcome!
URL:https://ageconcernsc.org.nz/event/steady-as-you-go-saygo-temuka/2026-11-06/
LOCATION:St Joseph’s Hall\, Temuka\, 30 Wilkin Street\, Temuka\, New Zealand
ATTACH;FMTTYPE=image/png:https://ageconcernsc.org.nz/wp-content/uploads/2025/08/Photo-changer-Temuka.png
ORGANIZER;CN="Age Concern South Canterbury":MAILTO:info@ageconcernsc.org.nz
END:VEVENT
BEGIN:VEVENT
DTSTART;TZID=Pacific/Auckland:20261110T103000
DTEND;TZID=Pacific/Auckland:20261110T113000
DTSTAMP:20260423T103015
CREATED:20260302T011823Z
LAST-MODIFIED:20260302T011823Z
UID:10006205-1794306600-1794310200@ageconcernsc.org.nz
SUMMARY:Steady as You Go (SAYGO) Waimate
DESCRIPTION:A strength\, balance\, and falls prevention exercise group designed especially for seniors. No booking required — just turn up and join in! \nWhen: Every Tuesday at 10:30amWhere: Waimate Town & Country ClubCost: Gold coin donation appreciated \nStay active\, improve your balance\, and meet others in the community. Everyone is welcome!
URL:https://ageconcernsc.org.nz/event/steady-as-you-go-saygo-waimate/2026-11-10/
LOCATION:Waimate Town and Country Club\, 14 John Street\, Waimate\, 14 John Street\, Waimate\, New Zealand
ATTACH;FMTTYPE=image/png:https://ageconcernsc.org.nz/wp-content/uploads/2025/08/Photo-changer-Waiamte.png
ORGANIZER;CN="Age Concern South Canterbury":MAILTO:info@ageconcernsc.org.nz
END:VEVENT
BEGIN:VEVENT
DTSTART;TZID=Pacific/Auckland:20261111T140000
DTEND;TZID=Pacific/Auckland:20261111T150000
DTSTAMP:20260423T103015
CREATED:20260302T013934Z
LAST-MODIFIED:20260302T013934Z
UID:10006247-1794405600-1794409200@ageconcernsc.org.nz
SUMMARY:Steady as You Go (SAYGO) Waimate
DESCRIPTION:A strength\, balance\, and falls prevention exercise group designed especially for seniors. No booking required — just turn up and join in! \nWhen: Every Wednesday at 2:00pmWhere: Waimate Town & Country ClubCost: Gold coin donation appreciated \nStay active\, improve your balance\, and meet others in the community. Everyone is welcome!
URL:https://ageconcernsc.org.nz/event/steady-as-you-go-saygo-waimate-2/2026-11-11/
LOCATION:Waimate Town and Country Club\, 14 John Street\, Waimate\, 14 John Street\, Waimate\, New Zealand
ATTACH;FMTTYPE=image/png:https://ageconcernsc.org.nz/wp-content/uploads/2025/08/Photo-changer-Waiamte.png
ORGANIZER;CN="Age Concern South Canterbury":MAILTO:info@ageconcernsc.org.nz
END:VEVENT
BEGIN:VEVENT
DTSTART;TZID=Pacific/Auckland:20261113T133000
DTEND;TZID=Pacific/Auckland:20261113T150000
DTSTAMP:20260423T103015
CREATED:20260302T005239Z
LAST-MODIFIED:20260302T005541Z
UID:10006163-1794576600-1794582000@ageconcernsc.org.nz
SUMMARY:Steady as You Go (SAYGO) Temuka
DESCRIPTION:A strength\, balance\, and falls prevention exercise group designed especially for seniors. No booking required — just turn up and join in! \nWhen: Every Friday at 1:30 PMWhere: St Joseph’s Hall\, TemukaCost: Gold coin donation appreciated \nStay active\, improve your balance\, and meet others in the community. Everyone is welcome!
URL:https://ageconcernsc.org.nz/event/steady-as-you-go-saygo-temuka/2026-11-13/
LOCATION:St Joseph’s Hall\, Temuka\, 30 Wilkin Street\, Temuka\, New Zealand
ATTACH;FMTTYPE=image/png:https://ageconcernsc.org.nz/wp-content/uploads/2025/08/Photo-changer-Temuka.png
ORGANIZER;CN="Age Concern South Canterbury":MAILTO:info@ageconcernsc.org.nz
END:VEVENT
BEGIN:VEVENT
DTSTART;TZID=Pacific/Auckland:20261117T103000
DTEND;TZID=Pacific/Auckland:20261117T113000
DTSTAMP:20260423T103015
CREATED:20260302T011823Z
LAST-MODIFIED:20260302T011823Z
UID:10006206-1794911400-1794915000@ageconcernsc.org.nz
SUMMARY:Steady as You Go (SAYGO) Waimate
DESCRIPTION:A strength\, balance\, and falls prevention exercise group designed especially for seniors. No booking required — just turn up and join in! \nWhen: Every Tuesday at 10:30amWhere: Waimate Town & Country ClubCost: Gold coin donation appreciated \nStay active\, improve your balance\, and meet others in the community. Everyone is welcome!
URL:https://ageconcernsc.org.nz/event/steady-as-you-go-saygo-waimate/2026-11-17/
LOCATION:Waimate Town and Country Club\, 14 John Street\, Waimate\, 14 John Street\, Waimate\, New Zealand
ATTACH;FMTTYPE=image/png:https://ageconcernsc.org.nz/wp-content/uploads/2025/08/Photo-changer-Waiamte.png
ORGANIZER;CN="Age Concern South Canterbury":MAILTO:info@ageconcernsc.org.nz
END:VEVENT
BEGIN:VEVENT
DTSTART;TZID=Pacific/Auckland:20261118T140000
DTEND;TZID=Pacific/Auckland:20261118T150000
DTSTAMP:20260423T103015
CREATED:20260302T013934Z
LAST-MODIFIED:20260302T013934Z
UID:10006248-1795010400-1795014000@ageconcernsc.org.nz
SUMMARY:Steady as You Go (SAYGO) Waimate
DESCRIPTION:A strength\, balance\, and falls prevention exercise group designed especially for seniors. No booking required — just turn up and join in! \nWhen: Every Wednesday at 2:00pmWhere: Waimate Town & Country ClubCost: Gold coin donation appreciated \nStay active\, improve your balance\, and meet others in the community. Everyone is welcome!
URL:https://ageconcernsc.org.nz/event/steady-as-you-go-saygo-waimate-2/2026-11-18/
LOCATION:Waimate Town and Country Club\, 14 John Street\, Waimate\, 14 John Street\, Waimate\, New Zealand
ATTACH;FMTTYPE=image/png:https://ageconcernsc.org.nz/wp-content/uploads/2025/08/Photo-changer-Waiamte.png
ORGANIZER;CN="Age Concern South Canterbury":MAILTO:info@ageconcernsc.org.nz
END:VEVENT
BEGIN:VEVENT
DTSTART;TZID=Pacific/Auckland:20261120T133000
DTEND;TZID=Pacific/Auckland:20261120T150000
DTSTAMP:20260423T103015
CREATED:20260302T005239Z
LAST-MODIFIED:20260302T005541Z
UID:10006164-1795181400-1795186800@ageconcernsc.org.nz
SUMMARY:Steady as You Go (SAYGO) Temuka
DESCRIPTION:A strength\, balance\, and falls prevention exercise group designed especially for seniors. No booking required — just turn up and join in! \nWhen: Every Friday at 1:30 PMWhere: St Joseph’s Hall\, TemukaCost: Gold coin donation appreciated \nStay active\, improve your balance\, and meet others in the community. Everyone is welcome!
URL:https://ageconcernsc.org.nz/event/steady-as-you-go-saygo-temuka/2026-11-20/
LOCATION:St Joseph’s Hall\, Temuka\, 30 Wilkin Street\, Temuka\, New Zealand
ATTACH;FMTTYPE=image/png:https://ageconcernsc.org.nz/wp-content/uploads/2025/08/Photo-changer-Temuka.png
ORGANIZER;CN="Age Concern South Canterbury":MAILTO:info@ageconcernsc.org.nz
END:VEVENT
BEGIN:VEVENT
DTSTART;TZID=Pacific/Auckland:20261124T103000
DTEND;TZID=Pacific/Auckland:20261124T113000
DTSTAMP:20260423T103015
CREATED:20260302T011823Z
LAST-MODIFIED:20260302T011823Z
UID:10006207-1795516200-1795519800@ageconcernsc.org.nz
SUMMARY:Steady as You Go (SAYGO) Waimate
DESCRIPTION:A strength\, balance\, and falls prevention exercise group designed especially for seniors. No booking required — just turn up and join in! \nWhen: Every Tuesday at 10:30amWhere: Waimate Town & Country ClubCost: Gold coin donation appreciated \nStay active\, improve your balance\, and meet others in the community. Everyone is welcome!
URL:https://ageconcernsc.org.nz/event/steady-as-you-go-saygo-waimate/2026-11-24/
LOCATION:Waimate Town and Country Club\, 14 John Street\, Waimate\, 14 John Street\, Waimate\, New Zealand
ATTACH;FMTTYPE=image/png:https://ageconcernsc.org.nz/wp-content/uploads/2025/08/Photo-changer-Waiamte.png
ORGANIZER;CN="Age Concern South Canterbury":MAILTO:info@ageconcernsc.org.nz
END:VEVENT
BEGIN:VEVENT
DTSTART;TZID=Pacific/Auckland:20261125T140000
DTEND;TZID=Pacific/Auckland:20261125T150000
DTSTAMP:20260423T103015
CREATED:20260302T013934Z
LAST-MODIFIED:20260302T013934Z
UID:10006249-1795615200-1795618800@ageconcernsc.org.nz
SUMMARY:Steady as You Go (SAYGO) Waimate
DESCRIPTION:A strength\, balance\, and falls prevention exercise group designed especially for seniors. No booking required — just turn up and join in! \nWhen: Every Wednesday at 2:00pmWhere: Waimate Town & Country ClubCost: Gold coin donation appreciated \nStay active\, improve your balance\, and meet others in the community. Everyone is welcome!
URL:https://ageconcernsc.org.nz/event/steady-as-you-go-saygo-waimate-2/2026-11-25/
LOCATION:Waimate Town and Country Club\, 14 John Street\, Waimate\, 14 John Street\, Waimate\, New Zealand
ATTACH;FMTTYPE=image/png:https://ageconcernsc.org.nz/wp-content/uploads/2025/08/Photo-changer-Waiamte.png
ORGANIZER;CN="Age Concern South Canterbury":MAILTO:info@ageconcernsc.org.nz
END:VEVENT
BEGIN:VEVENT
DTSTART;TZID=Pacific/Auckland:20261127T133000
DTEND;TZID=Pacific/Auckland:20261127T150000
DTSTAMP:20260423T103015
CREATED:20260302T005239Z
LAST-MODIFIED:20260302T005541Z
UID:10006165-1795786200-1795791600@ageconcernsc.org.nz
SUMMARY:Steady as You Go (SAYGO) Temuka
DESCRIPTION:A strength\, balance\, and falls prevention exercise group designed especially for seniors. No booking required — just turn up and join in! \nWhen: Every Friday at 1:30 PMWhere: St Joseph’s Hall\, TemukaCost: Gold coin donation appreciated \nStay active\, improve your balance\, and meet others in the community. Everyone is welcome!
URL:https://ageconcernsc.org.nz/event/steady-as-you-go-saygo-temuka/2026-11-27/
LOCATION:St Joseph’s Hall\, Temuka\, 30 Wilkin Street\, Temuka\, New Zealand
ATTACH;FMTTYPE=image/png:https://ageconcernsc.org.nz/wp-content/uploads/2025/08/Photo-changer-Temuka.png
ORGANIZER;CN="Age Concern South Canterbury":MAILTO:info@ageconcernsc.org.nz
END:VEVENT
BEGIN:VEVENT
DTSTART;TZID=Pacific/Auckland:20261201T103000
DTEND;TZID=Pacific/Auckland:20261201T113000
DTSTAMP:20260423T103015
CREATED:20260302T011823Z
LAST-MODIFIED:20260302T011823Z
UID:10006208-1796121000-1796124600@ageconcernsc.org.nz
SUMMARY:Steady as You Go (SAYGO) Waimate
DESCRIPTION:A strength\, balance\, and falls prevention exercise group designed especially for seniors. No booking required — just turn up and join in! \nWhen: Every Tuesday at 10:30amWhere: Waimate Town & Country ClubCost: Gold coin donation appreciated \nStay active\, improve your balance\, and meet others in the community. Everyone is welcome!
URL:https://ageconcernsc.org.nz/event/steady-as-you-go-saygo-waimate/2026-12-01/
LOCATION:Waimate Town and Country Club\, 14 John Street\, Waimate\, 14 John Street\, Waimate\, New Zealand
ATTACH;FMTTYPE=image/png:https://ageconcernsc.org.nz/wp-content/uploads/2025/08/Photo-changer-Waiamte.png
ORGANIZER;CN="Age Concern South Canterbury":MAILTO:info@ageconcernsc.org.nz
END:VEVENT
BEGIN:VEVENT
DTSTART;TZID=Pacific/Auckland:20261202T140000
DTEND;TZID=Pacific/Auckland:20261202T150000
DTSTAMP:20260423T103015
CREATED:20260302T013934Z
LAST-MODIFIED:20260302T013934Z
UID:10006250-1796220000-1796223600@ageconcernsc.org.nz
SUMMARY:Steady as You Go (SAYGO) Waimate
DESCRIPTION:A strength\, balance\, and falls prevention exercise group designed especially for seniors. No booking required — just turn up and join in! \nWhen: Every Wednesday at 2:00pmWhere: Waimate Town & Country ClubCost: Gold coin donation appreciated \nStay active\, improve your balance\, and meet others in the community. Everyone is welcome!
URL:https://ageconcernsc.org.nz/event/steady-as-you-go-saygo-waimate-2/2026-12-02/
LOCATION:Waimate Town and Country Club\, 14 John Street\, Waimate\, 14 John Street\, Waimate\, New Zealand
ATTACH;FMTTYPE=image/png:https://ageconcernsc.org.nz/wp-content/uploads/2025/08/Photo-changer-Waiamte.png
ORGANIZER;CN="Age Concern South Canterbury":MAILTO:info@ageconcernsc.org.nz
END:VEVENT
BEGIN:VEVENT
DTSTART;TZID=Pacific/Auckland:20261204T133000
DTEND;TZID=Pacific/Auckland:20261204T150000
DTSTAMP:20260423T103015
CREATED:20260302T005239Z
LAST-MODIFIED:20260302T005541Z
UID:10006166-1796391000-1796396400@ageconcernsc.org.nz
SUMMARY:Steady as You Go (SAYGO) Temuka
DESCRIPTION:A strength\, balance\, and falls prevention exercise group designed especially for seniors. No booking required — just turn up and join in! \nWhen: Every Friday at 1:30 PMWhere: St Joseph’s Hall\, TemukaCost: Gold coin donation appreciated \nStay active\, improve your balance\, and meet others in the community. Everyone is welcome!
URL:https://ageconcernsc.org.nz/event/steady-as-you-go-saygo-temuka/2026-12-04/
LOCATION:St Joseph’s Hall\, Temuka\, 30 Wilkin Street\, Temuka\, New Zealand
ATTACH;FMTTYPE=image/png:https://ageconcernsc.org.nz/wp-content/uploads/2025/08/Photo-changer-Temuka.png
ORGANIZER;CN="Age Concern South Canterbury":MAILTO:info@ageconcernsc.org.nz
END:VEVENT
BEGIN:VEVENT
DTSTART;TZID=Pacific/Auckland:20261208T103000
DTEND;TZID=Pacific/Auckland:20261208T113000
DTSTAMP:20260423T103015
CREATED:20260302T011823Z
LAST-MODIFIED:20260302T011823Z
UID:10006209-1796725800-1796729400@ageconcernsc.org.nz
SUMMARY:Steady as You Go (SAYGO) Waimate
DESCRIPTION:A strength\, balance\, and falls prevention exercise group designed especially for seniors. No booking required — just turn up and join in! \nWhen: Every Tuesday at 10:30amWhere: Waimate Town & Country ClubCost: Gold coin donation appreciated \nStay active\, improve your balance\, and meet others in the community. Everyone is welcome!
URL:https://ageconcernsc.org.nz/event/steady-as-you-go-saygo-waimate/2026-12-08/
LOCATION:Waimate Town and Country Club\, 14 John Street\, Waimate\, 14 John Street\, Waimate\, New Zealand
ATTACH;FMTTYPE=image/png:https://ageconcernsc.org.nz/wp-content/uploads/2025/08/Photo-changer-Waiamte.png
ORGANIZER;CN="Age Concern South Canterbury":MAILTO:info@ageconcernsc.org.nz
END:VEVENT
BEGIN:VEVENT
DTSTART;TZID=Pacific/Auckland:20261209T140000
DTEND;TZID=Pacific/Auckland:20261209T150000
DTSTAMP:20260423T103015
CREATED:20260302T013934Z
LAST-MODIFIED:20260302T013934Z
UID:10006251-1796824800-1796828400@ageconcernsc.org.nz
SUMMARY:Steady as You Go (SAYGO) Waimate
DESCRIPTION:A strength\, balance\, and falls prevention exercise group designed especially for seniors. No booking required — just turn up and join in! \nWhen: Every Wednesday at 2:00pmWhere: Waimate Town & Country ClubCost: Gold coin donation appreciated \nStay active\, improve your balance\, and meet others in the community. Everyone is welcome!
URL:https://ageconcernsc.org.nz/event/steady-as-you-go-saygo-waimate-2/2026-12-09/
LOCATION:Waimate Town and Country Club\, 14 John Street\, Waimate\, 14 John Street\, Waimate\, New Zealand
ATTACH;FMTTYPE=image/png:https://ageconcernsc.org.nz/wp-content/uploads/2025/08/Photo-changer-Waiamte.png
ORGANIZER;CN="Age Concern South Canterbury":MAILTO:info@ageconcernsc.org.nz
END:VEVENT
BEGIN:VEVENT
DTSTART;TZID=Pacific/Auckland:20261211T133000
DTEND;TZID=Pacific/Auckland:20261211T150000
DTSTAMP:20260423T103015
CREATED:20260302T005239Z
LAST-MODIFIED:20260302T005541Z
UID:10006167-1796995800-1797001200@ageconcernsc.org.nz
SUMMARY:Steady as You Go (SAYGO) Temuka
DESCRIPTION:A strength\, balance\, and falls prevention exercise group designed especially for seniors. No booking required — just turn up and join in! \nWhen: Every Friday at 1:30 PMWhere: St Joseph’s Hall\, TemukaCost: Gold coin donation appreciated \nStay active\, improve your balance\, and meet others in the community. Everyone is welcome!
URL:https://ageconcernsc.org.nz/event/steady-as-you-go-saygo-temuka/2026-12-11/
LOCATION:St Joseph’s Hall\, Temuka\, 30 Wilkin Street\, Temuka\, New Zealand
ATTACH;FMTTYPE=image/png:https://ageconcernsc.org.nz/wp-content/uploads/2025/08/Photo-changer-Temuka.png
ORGANIZER;CN="Age Concern South Canterbury":MAILTO:info@ageconcernsc.org.nz
END:VEVENT
BEGIN:VEVENT
DTSTART;TZID=Pacific/Auckland:20261215T103000
DTEND;TZID=Pacific/Auckland:20261215T113000
DTSTAMP:20260423T103015
CREATED:20260302T011823Z
LAST-MODIFIED:20260302T011823Z
UID:10006210-1797330600-1797334200@ageconcernsc.org.nz
SUMMARY:Steady as You Go (SAYGO) Waimate
DESCRIPTION:A strength\, balance\, and falls prevention exercise group designed especially for seniors. No booking required — just turn up and join in! \nWhen: Every Tuesday at 10:30amWhere: Waimate Town & Country ClubCost: Gold coin donation appreciated \nStay active\, improve your balance\, and meet others in the community. Everyone is welcome!
URL:https://ageconcernsc.org.nz/event/steady-as-you-go-saygo-waimate/2026-12-15/
LOCATION:Waimate Town and Country Club\, 14 John Street\, Waimate\, 14 John Street\, Waimate\, New Zealand
ATTACH;FMTTYPE=image/png:https://ageconcernsc.org.nz/wp-content/uploads/2025/08/Photo-changer-Waiamte.png
ORGANIZER;CN="Age Concern South Canterbury":MAILTO:info@ageconcernsc.org.nz
END:VEVENT
BEGIN:VEVENT
DTSTART;TZID=Pacific/Auckland:20261216T140000
DTEND;TZID=Pacific/Auckland:20261216T150000
DTSTAMP:20260423T103015
CREATED:20260302T013934Z
LAST-MODIFIED:20260302T013934Z
UID:10006252-1797429600-1797433200@ageconcernsc.org.nz
SUMMARY:Steady as You Go (SAYGO) Waimate
DESCRIPTION:A strength\, balance\, and falls prevention exercise group designed especially for seniors. No booking required — just turn up and join in! \nWhen: Every Wednesday at 2:00pmWhere: Waimate Town & Country ClubCost: Gold coin donation appreciated \nStay active\, improve your balance\, and meet others in the community. Everyone is welcome!
URL:https://ageconcernsc.org.nz/event/steady-as-you-go-saygo-waimate-2/2026-12-16/
LOCATION:Waimate Town and Country Club\, 14 John Street\, Waimate\, 14 John Street\, Waimate\, New Zealand
ATTACH;FMTTYPE=image/png:https://ageconcernsc.org.nz/wp-content/uploads/2025/08/Photo-changer-Waiamte.png
ORGANIZER;CN="Age Concern South Canterbury":MAILTO:info@ageconcernsc.org.nz
END:VEVENT
BEGIN:VEVENT
DTSTART;TZID=Pacific/Auckland:20261218T133000
DTEND;TZID=Pacific/Auckland:20261218T150000
DTSTAMP:20260423T103015
CREATED:20260302T005239Z
LAST-MODIFIED:20260302T005541Z
UID:10006168-1797600600-1797606000@ageconcernsc.org.nz
SUMMARY:Steady as You Go (SAYGO) Temuka
DESCRIPTION:A strength\, balance\, and falls prevention exercise group designed especially for seniors. No booking required — just turn up and join in! \nWhen: Every Friday at 1:30 PMWhere: St Joseph’s Hall\, TemukaCost: Gold coin donation appreciated \nStay active\, improve your balance\, and meet others in the community. Everyone is welcome!
URL:https://ageconcernsc.org.nz/event/steady-as-you-go-saygo-temuka/2026-12-18/
LOCATION:St Joseph’s Hall\, Temuka\, 30 Wilkin Street\, Temuka\, New Zealand
ATTACH;FMTTYPE=image/png:https://ageconcernsc.org.nz/wp-content/uploads/2025/08/Photo-changer-Temuka.png
ORGANIZER;CN="Age Concern South Canterbury":MAILTO:info@ageconcernsc.org.nz
END:VEVENT
END:VCALENDAR