BEGIN:VCALENDAR
VERSION:2.0
PRODID:-//Age Concern South Canterbury - ECPv6.15.20//NONSGML v1.0//EN
CALSCALE:GREGORIAN
METHOD:PUBLISH
X-WR-CALNAME:Age Concern South Canterbury
X-ORIGINAL-URL:https://ageconcernsc.org.nz
X-WR-CALDESC:Events for Age Concern South Canterbury
REFRESH-INTERVAL;VALUE=DURATION:PT1H
X-Robots-Tag:noindex
X-PUBLISHED-TTL:PT1H
BEGIN:VTIMEZONE
TZID:Pacific/Auckland
BEGIN:STANDARD
TZOFFSETFROM:+1300
TZOFFSETTO:+1200
TZNAME:NZST
DTSTART:20250405T140000
END:STANDARD
BEGIN:DAYLIGHT
TZOFFSETFROM:+1200
TZOFFSETTO:+1300
TZNAME:NZDT
DTSTART:20250927T140000
END:DAYLIGHT
BEGIN:STANDARD
TZOFFSETFROM:+1300
TZOFFSETTO:+1200
TZNAME:NZST
DTSTART:20260404T140000
END:STANDARD
BEGIN:DAYLIGHT
TZOFFSETFROM:+1200
TZOFFSETTO:+1300
TZNAME:NZDT
DTSTART:20260926T140000
END:DAYLIGHT
BEGIN:STANDARD
TZOFFSETFROM:+1300
TZOFFSETTO:+1200
TZNAME:NZST
DTSTART:20270403T140000
END:STANDARD
BEGIN:DAYLIGHT
TZOFFSETFROM:+1200
TZOFFSETTO:+1300
TZNAME:NZDT
DTSTART:20270925T140000
END:DAYLIGHT
END:VTIMEZONE
BEGIN:VEVENT
DTSTART;TZID=Pacific/Auckland:20260602T103000
DTEND;TZID=Pacific/Auckland:20260602T113000
DTSTAMP:20260420T234328
CREATED:20260302T011823Z
LAST-MODIFIED:20260302T011823Z
UID:10006182-1780396200-1780399800@ageconcernsc.org.nz
SUMMARY:Steady as You Go (SAYGO) Waimate
DESCRIPTION:A strength\, balance\, and falls prevention exercise group designed especially for seniors. No booking required — just turn up and join in! \nWhen: Every Tuesday at 10:30amWhere: Waimate Town & Country ClubCost: Gold coin donation appreciated \nStay active\, improve your balance\, and meet others in the community. Everyone is welcome!
URL:https://ageconcernsc.org.nz/event/steady-as-you-go-saygo-waimate/2026-06-02/
LOCATION:Waimate Town and Country Club\, 14 John Street\, Waimate\, 14 John Street\, Waimate\, New Zealand
ATTACH;FMTTYPE=image/png:https://ageconcernsc.org.nz/wp-content/uploads/2025/08/Photo-changer-Waiamte.png
ORGANIZER;CN="Age Concern South Canterbury":MAILTO:info@ageconcernsc.org.nz
END:VEVENT
BEGIN:VEVENT
DTSTART;TZID=Pacific/Auckland:20260603T140000
DTEND;TZID=Pacific/Auckland:20260603T150000
DTSTAMP:20260420T234328
CREATED:20260302T013934Z
LAST-MODIFIED:20260302T013934Z
UID:10006224-1780495200-1780498800@ageconcernsc.org.nz
SUMMARY:Steady as You Go (SAYGO) Waimate
DESCRIPTION:A strength\, balance\, and falls prevention exercise group designed especially for seniors. No booking required — just turn up and join in! \nWhen: Every Wednesday at 2:00pmWhere: Waimate Town & Country ClubCost: Gold coin donation appreciated \nStay active\, improve your balance\, and meet others in the community. Everyone is welcome!
URL:https://ageconcernsc.org.nz/event/steady-as-you-go-saygo-waimate-2/2026-06-03/
LOCATION:Waimate Town and Country Club\, 14 John Street\, Waimate\, 14 John Street\, Waimate\, New Zealand
ATTACH;FMTTYPE=image/png:https://ageconcernsc.org.nz/wp-content/uploads/2025/08/Photo-changer-Waiamte.png
ORGANIZER;CN="Age Concern South Canterbury":MAILTO:info@ageconcernsc.org.nz
END:VEVENT
BEGIN:VEVENT
DTSTART;TZID=Pacific/Auckland:20260605T133000
DTEND;TZID=Pacific/Auckland:20260605T150000
DTSTAMP:20260420T234328
CREATED:20260302T005239Z
LAST-MODIFIED:20260302T005541Z
UID:10006140-1780666200-1780671600@ageconcernsc.org.nz
SUMMARY:Steady as You Go (SAYGO) Temuka
DESCRIPTION:A strength\, balance\, and falls prevention exercise group designed especially for seniors. No booking required — just turn up and join in! \nWhen: Every Friday at 1:30 PMWhere: St Joseph’s Hall\, TemukaCost: Gold coin donation appreciated \nStay active\, improve your balance\, and meet others in the community. Everyone is welcome!
URL:https://ageconcernsc.org.nz/event/steady-as-you-go-saygo-temuka/2026-06-05/
LOCATION:St Joseph’s Hall\, Temuka\, 30 Wilkin Street\, Temuka\, New Zealand
ATTACH;FMTTYPE=image/png:https://ageconcernsc.org.nz/wp-content/uploads/2025/08/Photo-changer-Temuka.png
ORGANIZER;CN="Age Concern South Canterbury":MAILTO:info@ageconcernsc.org.nz
END:VEVENT
BEGIN:VEVENT
DTSTART;TZID=Pacific/Auckland:20260609T103000
DTEND;TZID=Pacific/Auckland:20260609T113000
DTSTAMP:20260420T234328
CREATED:20260302T011823Z
LAST-MODIFIED:20260302T011823Z
UID:10006183-1781001000-1781004600@ageconcernsc.org.nz
SUMMARY:Steady as You Go (SAYGO) Waimate
DESCRIPTION:A strength\, balance\, and falls prevention exercise group designed especially for seniors. No booking required — just turn up and join in! \nWhen: Every Tuesday at 10:30amWhere: Waimate Town & Country ClubCost: Gold coin donation appreciated \nStay active\, improve your balance\, and meet others in the community. Everyone is welcome!
URL:https://ageconcernsc.org.nz/event/steady-as-you-go-saygo-waimate/2026-06-09/
LOCATION:Waimate Town and Country Club\, 14 John Street\, Waimate\, 14 John Street\, Waimate\, New Zealand
ATTACH;FMTTYPE=image/png:https://ageconcernsc.org.nz/wp-content/uploads/2025/08/Photo-changer-Waiamte.png
ORGANIZER;CN="Age Concern South Canterbury":MAILTO:info@ageconcernsc.org.nz
END:VEVENT
BEGIN:VEVENT
DTSTART;TZID=Pacific/Auckland:20260610T140000
DTEND;TZID=Pacific/Auckland:20260610T150000
DTSTAMP:20260420T234328
CREATED:20260302T013934Z
LAST-MODIFIED:20260302T013934Z
UID:10006225-1781100000-1781103600@ageconcernsc.org.nz
SUMMARY:Steady as You Go (SAYGO) Waimate
DESCRIPTION:A strength\, balance\, and falls prevention exercise group designed especially for seniors. No booking required — just turn up and join in! \nWhen: Every Wednesday at 2:00pmWhere: Waimate Town & Country ClubCost: Gold coin donation appreciated \nStay active\, improve your balance\, and meet others in the community. Everyone is welcome!
URL:https://ageconcernsc.org.nz/event/steady-as-you-go-saygo-waimate-2/2026-06-10/
LOCATION:Waimate Town and Country Club\, 14 John Street\, Waimate\, 14 John Street\, Waimate\, New Zealand
ATTACH;FMTTYPE=image/png:https://ageconcernsc.org.nz/wp-content/uploads/2025/08/Photo-changer-Waiamte.png
ORGANIZER;CN="Age Concern South Canterbury":MAILTO:info@ageconcernsc.org.nz
END:VEVENT
BEGIN:VEVENT
DTSTART;TZID=Pacific/Auckland:20260612T133000
DTEND;TZID=Pacific/Auckland:20260612T150000
DTSTAMP:20260420T234328
CREATED:20260302T005239Z
LAST-MODIFIED:20260302T005541Z
UID:10006141-1781271000-1781276400@ageconcernsc.org.nz
SUMMARY:Steady as You Go (SAYGO) Temuka
DESCRIPTION:A strength\, balance\, and falls prevention exercise group designed especially for seniors. No booking required — just turn up and join in! \nWhen: Every Friday at 1:30 PMWhere: St Joseph’s Hall\, TemukaCost: Gold coin donation appreciated \nStay active\, improve your balance\, and meet others in the community. Everyone is welcome!
URL:https://ageconcernsc.org.nz/event/steady-as-you-go-saygo-temuka/2026-06-12/
LOCATION:St Joseph’s Hall\, Temuka\, 30 Wilkin Street\, Temuka\, New Zealand
ATTACH;FMTTYPE=image/png:https://ageconcernsc.org.nz/wp-content/uploads/2025/08/Photo-changer-Temuka.png
ORGANIZER;CN="Age Concern South Canterbury":MAILTO:info@ageconcernsc.org.nz
END:VEVENT
BEGIN:VEVENT
DTSTART;TZID=Pacific/Auckland:20260616T103000
DTEND;TZID=Pacific/Auckland:20260616T113000
DTSTAMP:20260420T234328
CREATED:20260302T011823Z
LAST-MODIFIED:20260302T011823Z
UID:10006184-1781605800-1781609400@ageconcernsc.org.nz
SUMMARY:Steady as You Go (SAYGO) Waimate
DESCRIPTION:A strength\, balance\, and falls prevention exercise group designed especially for seniors. No booking required — just turn up and join in! \nWhen: Every Tuesday at 10:30amWhere: Waimate Town & Country ClubCost: Gold coin donation appreciated \nStay active\, improve your balance\, and meet others in the community. Everyone is welcome!
URL:https://ageconcernsc.org.nz/event/steady-as-you-go-saygo-waimate/2026-06-16/
LOCATION:Waimate Town and Country Club\, 14 John Street\, Waimate\, 14 John Street\, Waimate\, New Zealand
ATTACH;FMTTYPE=image/png:https://ageconcernsc.org.nz/wp-content/uploads/2025/08/Photo-changer-Waiamte.png
ORGANIZER;CN="Age Concern South Canterbury":MAILTO:info@ageconcernsc.org.nz
END:VEVENT
BEGIN:VEVENT
DTSTART;TZID=Pacific/Auckland:20260617T140000
DTEND;TZID=Pacific/Auckland:20260617T150000
DTSTAMP:20260420T234328
CREATED:20260302T013934Z
LAST-MODIFIED:20260302T013934Z
UID:10006226-1781704800-1781708400@ageconcernsc.org.nz
SUMMARY:Steady as You Go (SAYGO) Waimate
DESCRIPTION:A strength\, balance\, and falls prevention exercise group designed especially for seniors. No booking required — just turn up and join in! \nWhen: Every Wednesday at 2:00pmWhere: Waimate Town & Country ClubCost: Gold coin donation appreciated \nStay active\, improve your balance\, and meet others in the community. Everyone is welcome!
URL:https://ageconcernsc.org.nz/event/steady-as-you-go-saygo-waimate-2/2026-06-17/
LOCATION:Waimate Town and Country Club\, 14 John Street\, Waimate\, 14 John Street\, Waimate\, New Zealand
ATTACH;FMTTYPE=image/png:https://ageconcernsc.org.nz/wp-content/uploads/2025/08/Photo-changer-Waiamte.png
ORGANIZER;CN="Age Concern South Canterbury":MAILTO:info@ageconcernsc.org.nz
END:VEVENT
BEGIN:VEVENT
DTSTART;TZID=Pacific/Auckland:20260619T133000
DTEND;TZID=Pacific/Auckland:20260619T150000
DTSTAMP:20260420T234328
CREATED:20260302T005239Z
LAST-MODIFIED:20260302T005541Z
UID:10006142-1781875800-1781881200@ageconcernsc.org.nz
SUMMARY:Steady as You Go (SAYGO) Temuka
DESCRIPTION:A strength\, balance\, and falls prevention exercise group designed especially for seniors. No booking required — just turn up and join in! \nWhen: Every Friday at 1:30 PMWhere: St Joseph’s Hall\, TemukaCost: Gold coin donation appreciated \nStay active\, improve your balance\, and meet others in the community. Everyone is welcome!
URL:https://ageconcernsc.org.nz/event/steady-as-you-go-saygo-temuka/2026-06-19/
LOCATION:St Joseph’s Hall\, Temuka\, 30 Wilkin Street\, Temuka\, New Zealand
ATTACH;FMTTYPE=image/png:https://ageconcernsc.org.nz/wp-content/uploads/2025/08/Photo-changer-Temuka.png
ORGANIZER;CN="Age Concern South Canterbury":MAILTO:info@ageconcernsc.org.nz
END:VEVENT
BEGIN:VEVENT
DTSTART;TZID=Pacific/Auckland:20260623T103000
DTEND;TZID=Pacific/Auckland:20260623T113000
DTSTAMP:20260420T234328
CREATED:20260302T011823Z
LAST-MODIFIED:20260302T011823Z
UID:10006185-1782210600-1782214200@ageconcernsc.org.nz
SUMMARY:Steady as You Go (SAYGO) Waimate
DESCRIPTION:A strength\, balance\, and falls prevention exercise group designed especially for seniors. No booking required — just turn up and join in! \nWhen: Every Tuesday at 10:30amWhere: Waimate Town & Country ClubCost: Gold coin donation appreciated \nStay active\, improve your balance\, and meet others in the community. Everyone is welcome!
URL:https://ageconcernsc.org.nz/event/steady-as-you-go-saygo-waimate/2026-06-23/
LOCATION:Waimate Town and Country Club\, 14 John Street\, Waimate\, 14 John Street\, Waimate\, New Zealand
ATTACH;FMTTYPE=image/png:https://ageconcernsc.org.nz/wp-content/uploads/2025/08/Photo-changer-Waiamte.png
ORGANIZER;CN="Age Concern South Canterbury":MAILTO:info@ageconcernsc.org.nz
END:VEVENT
BEGIN:VEVENT
DTSTART;TZID=Pacific/Auckland:20260624T140000
DTEND;TZID=Pacific/Auckland:20260624T150000
DTSTAMP:20260420T234328
CREATED:20260302T013934Z
LAST-MODIFIED:20260302T013934Z
UID:10006227-1782309600-1782313200@ageconcernsc.org.nz
SUMMARY:Steady as You Go (SAYGO) Waimate
DESCRIPTION:A strength\, balance\, and falls prevention exercise group designed especially for seniors. No booking required — just turn up and join in! \nWhen: Every Wednesday at 2:00pmWhere: Waimate Town & Country ClubCost: Gold coin donation appreciated \nStay active\, improve your balance\, and meet others in the community. Everyone is welcome!
URL:https://ageconcernsc.org.nz/event/steady-as-you-go-saygo-waimate-2/2026-06-24/
LOCATION:Waimate Town and Country Club\, 14 John Street\, Waimate\, 14 John Street\, Waimate\, New Zealand
ATTACH;FMTTYPE=image/png:https://ageconcernsc.org.nz/wp-content/uploads/2025/08/Photo-changer-Waiamte.png
ORGANIZER;CN="Age Concern South Canterbury":MAILTO:info@ageconcernsc.org.nz
END:VEVENT
BEGIN:VEVENT
DTSTART;TZID=Pacific/Auckland:20260626T133000
DTEND;TZID=Pacific/Auckland:20260626T150000
DTSTAMP:20260420T234328
CREATED:20260302T005239Z
LAST-MODIFIED:20260302T005541Z
UID:10006143-1782480600-1782486000@ageconcernsc.org.nz
SUMMARY:Steady as You Go (SAYGO) Temuka
DESCRIPTION:A strength\, balance\, and falls prevention exercise group designed especially for seniors. No booking required — just turn up and join in! \nWhen: Every Friday at 1:30 PMWhere: St Joseph’s Hall\, TemukaCost: Gold coin donation appreciated \nStay active\, improve your balance\, and meet others in the community. Everyone is welcome!
URL:https://ageconcernsc.org.nz/event/steady-as-you-go-saygo-temuka/2026-06-26/
LOCATION:St Joseph’s Hall\, Temuka\, 30 Wilkin Street\, Temuka\, New Zealand
ATTACH;FMTTYPE=image/png:https://ageconcernsc.org.nz/wp-content/uploads/2025/08/Photo-changer-Temuka.png
ORGANIZER;CN="Age Concern South Canterbury":MAILTO:info@ageconcernsc.org.nz
END:VEVENT
BEGIN:VEVENT
DTSTART;TZID=Pacific/Auckland:20260630T103000
DTEND;TZID=Pacific/Auckland:20260630T113000
DTSTAMP:20260420T234328
CREATED:20260302T011823Z
LAST-MODIFIED:20260302T011823Z
UID:10006186-1782815400-1782819000@ageconcernsc.org.nz
SUMMARY:Steady as You Go (SAYGO) Waimate
DESCRIPTION:A strength\, balance\, and falls prevention exercise group designed especially for seniors. No booking required — just turn up and join in! \nWhen: Every Tuesday at 10:30amWhere: Waimate Town & Country ClubCost: Gold coin donation appreciated \nStay active\, improve your balance\, and meet others in the community. Everyone is welcome!
URL:https://ageconcernsc.org.nz/event/steady-as-you-go-saygo-waimate/2026-06-30/
LOCATION:Waimate Town and Country Club\, 14 John Street\, Waimate\, 14 John Street\, Waimate\, New Zealand
ATTACH;FMTTYPE=image/png:https://ageconcernsc.org.nz/wp-content/uploads/2025/08/Photo-changer-Waiamte.png
ORGANIZER;CN="Age Concern South Canterbury":MAILTO:info@ageconcernsc.org.nz
END:VEVENT
END:VCALENDAR