BEGIN:VCALENDAR
VERSION:2.0
PRODID:-//Age Concern South Canterbury - ECPv6.15.20//NONSGML v1.0//EN
CALSCALE:GREGORIAN
METHOD:PUBLISH
X-ORIGINAL-URL:https://ageconcernsc.org.nz
X-WR-CALDESC:Events for Age Concern South Canterbury
REFRESH-INTERVAL;VALUE=DURATION:PT1H
X-Robots-Tag:noindex
X-PUBLISHED-TTL:PT1H
BEGIN:VTIMEZONE
TZID:Pacific/Auckland
BEGIN:STANDARD
TZOFFSETFROM:+1300
TZOFFSETTO:+1200
TZNAME:NZST
DTSTART:20250405T140000
END:STANDARD
BEGIN:DAYLIGHT
TZOFFSETFROM:+1200
TZOFFSETTO:+1300
TZNAME:NZDT
DTSTART:20250927T140000
END:DAYLIGHT
BEGIN:STANDARD
TZOFFSETFROM:+1300
TZOFFSETTO:+1200
TZNAME:NZST
DTSTART:20260404T140000
END:STANDARD
BEGIN:DAYLIGHT
TZOFFSETFROM:+1200
TZOFFSETTO:+1300
TZNAME:NZDT
DTSTART:20260926T140000
END:DAYLIGHT
BEGIN:STANDARD
TZOFFSETFROM:+1300
TZOFFSETTO:+1200
TZNAME:NZST
DTSTART:20270403T140000
END:STANDARD
BEGIN:DAYLIGHT
TZOFFSETFROM:+1200
TZOFFSETTO:+1300
TZNAME:NZDT
DTSTART:20270925T140000
END:DAYLIGHT
END:VTIMEZONE
BEGIN:VEVENT
DTSTART;TZID=Pacific/Auckland:20260804T103000
DTEND;TZID=Pacific/Auckland:20260804T113000
DTSTAMP:20260423T195226
CREATED:20260302T011823Z
LAST-MODIFIED:20260302T011823Z
UID:10006191-1785839400-1785843000@ageconcernsc.org.nz
SUMMARY:Steady as You Go (SAYGO) Waimate
DESCRIPTION:A strength\, balance\, and falls prevention exercise group designed especially for seniors. No booking required — just turn up and join in! \nWhen: Every Tuesday at 10:30amWhere: Waimate Town & Country ClubCost: Gold coin donation appreciated \nStay active\, improve your balance\, and meet others in the community. Everyone is welcome!
URL:https://ageconcernsc.org.nz/event/steady-as-you-go-saygo-waimate/2026-08-04/
LOCATION:Waimate Town and Country Club\, 14 John Street\, Waimate\, 14 John Street\, Waimate\, New Zealand
ATTACH;FMTTYPE=image/png:https://ageconcernsc.org.nz/wp-content/uploads/2025/08/Photo-changer-Waiamte.png
ORGANIZER;CN="Age Concern South Canterbury":MAILTO:info@ageconcernsc.org.nz
END:VEVENT
BEGIN:VEVENT
DTSTART;TZID=Pacific/Auckland:20260805T140000
DTEND;TZID=Pacific/Auckland:20260805T150000
DTSTAMP:20260423T195226
CREATED:20260302T013934Z
LAST-MODIFIED:20260302T013934Z
UID:10006233-1785938400-1785942000@ageconcernsc.org.nz
SUMMARY:Steady as You Go (SAYGO) Waimate
DESCRIPTION:A strength\, balance\, and falls prevention exercise group designed especially for seniors. No booking required — just turn up and join in! \nWhen: Every Wednesday at 2:00pmWhere: Waimate Town & Country ClubCost: Gold coin donation appreciated \nStay active\, improve your balance\, and meet others in the community. Everyone is welcome!
URL:https://ageconcernsc.org.nz/event/steady-as-you-go-saygo-waimate-2/2026-08-05/
LOCATION:Waimate Town and Country Club\, 14 John Street\, Waimate\, 14 John Street\, Waimate\, New Zealand
ATTACH;FMTTYPE=image/png:https://ageconcernsc.org.nz/wp-content/uploads/2025/08/Photo-changer-Waiamte.png
ORGANIZER;CN="Age Concern South Canterbury":MAILTO:info@ageconcernsc.org.nz
END:VEVENT
BEGIN:VEVENT
DTSTART;TZID=Pacific/Auckland:20260807T133000
DTEND;TZID=Pacific/Auckland:20260807T150000
DTSTAMP:20260423T195226
CREATED:20260302T005239Z
LAST-MODIFIED:20260302T005541Z
UID:10006149-1786109400-1786114800@ageconcernsc.org.nz
SUMMARY:Steady as You Go (SAYGO) Temuka
DESCRIPTION:A strength\, balance\, and falls prevention exercise group designed especially for seniors. No booking required — just turn up and join in! \nWhen: Every Friday at 1:30 PMWhere: St Joseph’s Hall\, TemukaCost: Gold coin donation appreciated \nStay active\, improve your balance\, and meet others in the community. Everyone is welcome!
URL:https://ageconcernsc.org.nz/event/steady-as-you-go-saygo-temuka/2026-08-07/
LOCATION:St Joseph’s Hall\, Temuka\, 30 Wilkin Street\, Temuka\, New Zealand
ATTACH;FMTTYPE=image/png:https://ageconcernsc.org.nz/wp-content/uploads/2025/08/Photo-changer-Temuka.png
ORGANIZER;CN="Age Concern South Canterbury":MAILTO:info@ageconcernsc.org.nz
END:VEVENT
BEGIN:VEVENT
DTSTART;TZID=Pacific/Auckland:20260811T103000
DTEND;TZID=Pacific/Auckland:20260811T113000
DTSTAMP:20260423T195226
CREATED:20260302T011823Z
LAST-MODIFIED:20260302T011823Z
UID:10006192-1786444200-1786447800@ageconcernsc.org.nz
SUMMARY:Steady as You Go (SAYGO) Waimate
DESCRIPTION:A strength\, balance\, and falls prevention exercise group designed especially for seniors. No booking required — just turn up and join in! \nWhen: Every Tuesday at 10:30amWhere: Waimate Town & Country ClubCost: Gold coin donation appreciated \nStay active\, improve your balance\, and meet others in the community. Everyone is welcome!
URL:https://ageconcernsc.org.nz/event/steady-as-you-go-saygo-waimate/2026-08-11/
LOCATION:Waimate Town and Country Club\, 14 John Street\, Waimate\, 14 John Street\, Waimate\, New Zealand
ATTACH;FMTTYPE=image/png:https://ageconcernsc.org.nz/wp-content/uploads/2025/08/Photo-changer-Waiamte.png
ORGANIZER;CN="Age Concern South Canterbury":MAILTO:info@ageconcernsc.org.nz
END:VEVENT
BEGIN:VEVENT
DTSTART;TZID=Pacific/Auckland:20260812T140000
DTEND;TZID=Pacific/Auckland:20260812T150000
DTSTAMP:20260423T195226
CREATED:20260302T013934Z
LAST-MODIFIED:20260302T013934Z
UID:10006234-1786543200-1786546800@ageconcernsc.org.nz
SUMMARY:Steady as You Go (SAYGO) Waimate
DESCRIPTION:A strength\, balance\, and falls prevention exercise group designed especially for seniors. No booking required — just turn up and join in! \nWhen: Every Wednesday at 2:00pmWhere: Waimate Town & Country ClubCost: Gold coin donation appreciated \nStay active\, improve your balance\, and meet others in the community. Everyone is welcome!
URL:https://ageconcernsc.org.nz/event/steady-as-you-go-saygo-waimate-2/2026-08-12/
LOCATION:Waimate Town and Country Club\, 14 John Street\, Waimate\, 14 John Street\, Waimate\, New Zealand
ATTACH;FMTTYPE=image/png:https://ageconcernsc.org.nz/wp-content/uploads/2025/08/Photo-changer-Waiamte.png
ORGANIZER;CN="Age Concern South Canterbury":MAILTO:info@ageconcernsc.org.nz
END:VEVENT
BEGIN:VEVENT
DTSTART;TZID=Pacific/Auckland:20260814T133000
DTEND;TZID=Pacific/Auckland:20260814T150000
DTSTAMP:20260423T195226
CREATED:20260302T005239Z
LAST-MODIFIED:20260302T005541Z
UID:10006150-1786714200-1786719600@ageconcernsc.org.nz
SUMMARY:Steady as You Go (SAYGO) Temuka
DESCRIPTION:A strength\, balance\, and falls prevention exercise group designed especially for seniors. No booking required — just turn up and join in! \nWhen: Every Friday at 1:30 PMWhere: St Joseph’s Hall\, TemukaCost: Gold coin donation appreciated \nStay active\, improve your balance\, and meet others in the community. Everyone is welcome!
URL:https://ageconcernsc.org.nz/event/steady-as-you-go-saygo-temuka/2026-08-14/
LOCATION:St Joseph’s Hall\, Temuka\, 30 Wilkin Street\, Temuka\, New Zealand
ATTACH;FMTTYPE=image/png:https://ageconcernsc.org.nz/wp-content/uploads/2025/08/Photo-changer-Temuka.png
ORGANIZER;CN="Age Concern South Canterbury":MAILTO:info@ageconcernsc.org.nz
END:VEVENT
BEGIN:VEVENT
DTSTART;TZID=Pacific/Auckland:20260818T103000
DTEND;TZID=Pacific/Auckland:20260818T113000
DTSTAMP:20260423T195226
CREATED:20260302T011823Z
LAST-MODIFIED:20260302T011823Z
UID:10006193-1787049000-1787052600@ageconcernsc.org.nz
SUMMARY:Steady as You Go (SAYGO) Waimate
DESCRIPTION:A strength\, balance\, and falls prevention exercise group designed especially for seniors. No booking required — just turn up and join in! \nWhen: Every Tuesday at 10:30amWhere: Waimate Town & Country ClubCost: Gold coin donation appreciated \nStay active\, improve your balance\, and meet others in the community. Everyone is welcome!
URL:https://ageconcernsc.org.nz/event/steady-as-you-go-saygo-waimate/2026-08-18/
LOCATION:Waimate Town and Country Club\, 14 John Street\, Waimate\, 14 John Street\, Waimate\, New Zealand
ATTACH;FMTTYPE=image/png:https://ageconcernsc.org.nz/wp-content/uploads/2025/08/Photo-changer-Waiamte.png
ORGANIZER;CN="Age Concern South Canterbury":MAILTO:info@ageconcernsc.org.nz
END:VEVENT
BEGIN:VEVENT
DTSTART;TZID=Pacific/Auckland:20260819T140000
DTEND;TZID=Pacific/Auckland:20260819T150000
DTSTAMP:20260423T195226
CREATED:20260302T013934Z
LAST-MODIFIED:20260302T013934Z
UID:10006235-1787148000-1787151600@ageconcernsc.org.nz
SUMMARY:Steady as You Go (SAYGO) Waimate
DESCRIPTION:A strength\, balance\, and falls prevention exercise group designed especially for seniors. No booking required — just turn up and join in! \nWhen: Every Wednesday at 2:00pmWhere: Waimate Town & Country ClubCost: Gold coin donation appreciated \nStay active\, improve your balance\, and meet others in the community. Everyone is welcome!
URL:https://ageconcernsc.org.nz/event/steady-as-you-go-saygo-waimate-2/2026-08-19/
LOCATION:Waimate Town and Country Club\, 14 John Street\, Waimate\, 14 John Street\, Waimate\, New Zealand
ATTACH;FMTTYPE=image/png:https://ageconcernsc.org.nz/wp-content/uploads/2025/08/Photo-changer-Waiamte.png
ORGANIZER;CN="Age Concern South Canterbury":MAILTO:info@ageconcernsc.org.nz
END:VEVENT
BEGIN:VEVENT
DTSTART;TZID=Pacific/Auckland:20260821T133000
DTEND;TZID=Pacific/Auckland:20260821T150000
DTSTAMP:20260423T195226
CREATED:20260302T005239Z
LAST-MODIFIED:20260302T005541Z
UID:10006151-1787319000-1787324400@ageconcernsc.org.nz
SUMMARY:Steady as You Go (SAYGO) Temuka
DESCRIPTION:A strength\, balance\, and falls prevention exercise group designed especially for seniors. No booking required — just turn up and join in! \nWhen: Every Friday at 1:30 PMWhere: St Joseph’s Hall\, TemukaCost: Gold coin donation appreciated \nStay active\, improve your balance\, and meet others in the community. Everyone is welcome!
URL:https://ageconcernsc.org.nz/event/steady-as-you-go-saygo-temuka/2026-08-21/
LOCATION:St Joseph’s Hall\, Temuka\, 30 Wilkin Street\, Temuka\, New Zealand
ATTACH;FMTTYPE=image/png:https://ageconcernsc.org.nz/wp-content/uploads/2025/08/Photo-changer-Temuka.png
ORGANIZER;CN="Age Concern South Canterbury":MAILTO:info@ageconcernsc.org.nz
END:VEVENT
BEGIN:VEVENT
DTSTART;TZID=Pacific/Auckland:20260825T103000
DTEND;TZID=Pacific/Auckland:20260825T113000
DTSTAMP:20260423T195226
CREATED:20260302T011823Z
LAST-MODIFIED:20260302T011823Z
UID:10006194-1787653800-1787657400@ageconcernsc.org.nz
SUMMARY:Steady as You Go (SAYGO) Waimate
DESCRIPTION:A strength\, balance\, and falls prevention exercise group designed especially for seniors. No booking required — just turn up and join in! \nWhen: Every Tuesday at 10:30amWhere: Waimate Town & Country ClubCost: Gold coin donation appreciated \nStay active\, improve your balance\, and meet others in the community. Everyone is welcome!
URL:https://ageconcernsc.org.nz/event/steady-as-you-go-saygo-waimate/2026-08-25/
LOCATION:Waimate Town and Country Club\, 14 John Street\, Waimate\, 14 John Street\, Waimate\, New Zealand
ATTACH;FMTTYPE=image/png:https://ageconcernsc.org.nz/wp-content/uploads/2025/08/Photo-changer-Waiamte.png
ORGANIZER;CN="Age Concern South Canterbury":MAILTO:info@ageconcernsc.org.nz
END:VEVENT
BEGIN:VEVENT
DTSTART;TZID=Pacific/Auckland:20260826T140000
DTEND;TZID=Pacific/Auckland:20260826T150000
DTSTAMP:20260423T195226
CREATED:20260302T013934Z
LAST-MODIFIED:20260302T013934Z
UID:10006236-1787752800-1787756400@ageconcernsc.org.nz
SUMMARY:Steady as You Go (SAYGO) Waimate
DESCRIPTION:A strength\, balance\, and falls prevention exercise group designed especially for seniors. No booking required — just turn up and join in! \nWhen: Every Wednesday at 2:00pmWhere: Waimate Town & Country ClubCost: Gold coin donation appreciated \nStay active\, improve your balance\, and meet others in the community. Everyone is welcome!
URL:https://ageconcernsc.org.nz/event/steady-as-you-go-saygo-waimate-2/2026-08-26/
LOCATION:Waimate Town and Country Club\, 14 John Street\, Waimate\, 14 John Street\, Waimate\, New Zealand
ATTACH;FMTTYPE=image/png:https://ageconcernsc.org.nz/wp-content/uploads/2025/08/Photo-changer-Waiamte.png
ORGANIZER;CN="Age Concern South Canterbury":MAILTO:info@ageconcernsc.org.nz
END:VEVENT
BEGIN:VEVENT
DTSTART;TZID=Pacific/Auckland:20260828T133000
DTEND;TZID=Pacific/Auckland:20260828T150000
DTSTAMP:20260423T195226
CREATED:20260302T005239Z
LAST-MODIFIED:20260302T005541Z
UID:10006152-1787923800-1787929200@ageconcernsc.org.nz
SUMMARY:Steady as You Go (SAYGO) Temuka
DESCRIPTION:A strength\, balance\, and falls prevention exercise group designed especially for seniors. No booking required — just turn up and join in! \nWhen: Every Friday at 1:30 PMWhere: St Joseph’s Hall\, TemukaCost: Gold coin donation appreciated \nStay active\, improve your balance\, and meet others in the community. Everyone is welcome!
URL:https://ageconcernsc.org.nz/event/steady-as-you-go-saygo-temuka/2026-08-28/
LOCATION:St Joseph’s Hall\, Temuka\, 30 Wilkin Street\, Temuka\, New Zealand
ATTACH;FMTTYPE=image/png:https://ageconcernsc.org.nz/wp-content/uploads/2025/08/Photo-changer-Temuka.png
ORGANIZER;CN="Age Concern South Canterbury":MAILTO:info@ageconcernsc.org.nz
END:VEVENT
END:VCALENDAR