BEGIN:VCALENDAR
VERSION:2.0
PRODID:-//Age Concern South Canterbury - ECPv6.15.20//NONSGML v1.0//EN
CALSCALE:GREGORIAN
METHOD:PUBLISH
X-WR-CALNAME:Age Concern South Canterbury
X-ORIGINAL-URL:https://ageconcernsc.org.nz
X-WR-CALDESC:Events for Age Concern South Canterbury
REFRESH-INTERVAL;VALUE=DURATION:PT1H
X-Robots-Tag:noindex
X-PUBLISHED-TTL:PT1H
BEGIN:VTIMEZONE
TZID:Pacific/Auckland
BEGIN:STANDARD
TZOFFSETFROM:+1300
TZOFFSETTO:+1200
TZNAME:NZST
DTSTART:20250405T140000
END:STANDARD
BEGIN:DAYLIGHT
TZOFFSETFROM:+1200
TZOFFSETTO:+1300
TZNAME:NZDT
DTSTART:20250927T140000
END:DAYLIGHT
BEGIN:STANDARD
TZOFFSETFROM:+1300
TZOFFSETTO:+1200
TZNAME:NZST
DTSTART:20260404T140000
END:STANDARD
BEGIN:DAYLIGHT
TZOFFSETFROM:+1200
TZOFFSETTO:+1300
TZNAME:NZDT
DTSTART:20260926T140000
END:DAYLIGHT
BEGIN:STANDARD
TZOFFSETFROM:+1300
TZOFFSETTO:+1200
TZNAME:NZST
DTSTART:20270403T140000
END:STANDARD
BEGIN:DAYLIGHT
TZOFFSETFROM:+1200
TZOFFSETTO:+1300
TZNAME:NZDT
DTSTART:20270925T140000
END:DAYLIGHT
END:VTIMEZONE
BEGIN:VEVENT
DTSTART;TZID=Pacific/Auckland:20260422T100000
DTEND;TZID=Pacific/Auckland:20260422T163000
DTSTAMP:20260421T212424
CREATED:20260223T013336Z
LAST-MODIFIED:20260419T225933Z
UID:10006126-1776852000-1776875400@ageconcernsc.org.nz
SUMMARY:Day Out with Age Concern – Monthly Bus Trip
DESCRIPTION:Hop On Board for Our Monthly Bus Outings \nLooking for a relaxed day out with friendly faces\, local sights\, and a good meal? Join Age Concern South Canterbury for our popular Monthly Bus Trips – a great way to explore South Canterbury and connect with others. \nWhen: One weekday each month\, 10:00 AM – approx. 4:30 PMCost: $15 per person (excludes lunch & other costs)Who: Age Concern South Canterbury members onlyDestination: TBC \nEnjoy a scenic drive\, a delicious lunch stop\, and plenty of time to chat and relax along the way. Each month is a new destination – and a new adventure! \nPlease note: Age Concern South Canterbury does not cover the cost of meals or any additional expenses. \n\nBookings & PaymentBookings and prepayment are essential. You can book at our Friday Club or visit us at:Community House\, 27 Strathallan Street\, TimaruOr call us on 03 687 7581 \nA one-time Consent & Medical Information Form is required before your first trip. \nSpots fill quickly\, so book early to avoid missing out!
URL:https://ageconcernsc.org.nz/event/day-out-with-age-concern-monthly-bus-trip/2026-04-22/
ATTACH;FMTTYPE=image/png:https://ageconcernsc.org.nz/wp-content/uploads/2025/08/Photo-changer-1.png
ORGANIZER;CN="Age Concern South Canterbury":MAILTO:info@ageconcernsc.org.nz
END:VEVENT
END:VCALENDAR